6.43737626
0.00000000
0.00000000
-6.43737626
517415.466424520011
6486411.033107600175
