!Table:
!Version 300
!Charset WindowsLatin1

Definition Table
  File "F41071A1.TIF"
  Type "RASTER"
  (245039.35467616 ,4601026.8381981701) (0,0) Label "Pt 1.1" ,
  (245049.51467577001 ,4601026.8381981701) (1,0) Label "Pt 1.2" ,
  (245039.35467616 ,4601016.6781985601) (0,1) Label "Pt 1.3" ,
  (246055.35463716 ,4600010.8382371701) (100,100) Label "Pt 2.1" ,
  (246055.35463716 ,4601026.8381981701) (100,0) Label "Pt 2.2" ,
  (245039.35467616 ,4600010.8382371701) (0,100) Label "Pt 2.3" ,
  (247071.35459815999 ,4598994.8382761702) (200,200) Label "Pt 3.1" ,
  (247071.35459815999 ,4601026.8381981701) (200,0) Label "Pt 3.2" ,
  (245039.35467616 ,4598994.8382761702) (0,200) Label "Pt 3.3"
  CoordSys Earth Projection 8, 62,"m",-69, 0, 0.9996, 500000, 0
  Units "m"
  RasterStyle 4 1
  RasterStyle 5 1
