10.15999961
0.00000000
0.00000000
-10.15999961
664353.77645466
4601381.58978077
