!Table:
!Version 300
!Charset WindowsLatin1

Definition Table
  File "F41074A1.TIF"
  Type "RASTER"
  (497460.90583434998 ,4597215.0822058497) (0,0) Label "Pt 1.1" ,
  (497471.06583395996 ,4597215.0822058497) (1,0) Label "Pt 1.2" ,
  (497460.90583434998 ,4597204.9222062398) (0,1) Label "Pt 1.3" ,
  (498476.90579534997 ,4596199.0822448498) (100,100) Label "Pt 2.1" ,
  (498476.90579534997 ,4597215.0822058497) (100,0) Label "Pt 2.2" ,
  (497460.90583434998 ,4596199.0822448498) (0,100) Label "Pt 2.3" ,
  (499492.90575634997 ,4595183.0822838498) (200,200) Label "Pt 3.1" ,
  (499492.90575634997 ,4597215.0822058497) (200,0) Label "Pt 3.2" ,
  (497460.90583434998 ,4595183.0822838498) (0,200) Label "Pt 3.3"
  CoordSys Earth Projection 8, 62,"m",-75, 0, 0.9996, 500000, 0
  Units "m"
  RasterStyle 4 1
  RasterStyle 5 1
