10.15999961
0.00000000
0.00000000
-10.15999961
497460.90583435
4597215.08220585
