!Table:
!Version 300
!Charset WindowsLatin1

Definition Table
  File "F42073A1.TIF"
  Type "RASTER"
  (579619.67234411999 ,4709863.2858592505) (0,0) Label "Pt 1.1" ,
  (579629.83234373003 ,4709863.2858592505) (1,0) Label "Pt 1.2" ,
  (579619.67234411999 ,4709853.1258596405) (0,1) Label "Pt 1.3" ,
  (580635.67230512004 ,4708847.2858982505) (100,100) Label "Pt 2.1" ,
  (580635.67230512004 ,4709863.2858592505) (100,0) Label "Pt 2.2" ,
  (579619.67234411999 ,4708847.2858982505) (0,100) Label "Pt 2.3" ,
  (581651.67226611997 ,4707831.2859372506) (200,200) Label "Pt 3.1" ,
  (581651.67226611997 ,4709863.2858592505) (200,0) Label "Pt 3.2" ,
  (579619.67234411999 ,4707831.2859372506) (0,200) Label "Pt 3.3"
  CoordSys Earth Projection 8, 62,"m",-75, 0, 0.9996, 500000, 0
  Units "m"
  RasterStyle 4 1
  RasterStyle 5 1
