10.15999961
0.00000000
0.00000000
-10.15999961
579619.67234412
4709863.28585925
