!Table:
!Version 300
!Charset WindowsLatin1

Definition Table
  File "F42075A1.TIF"
  Type "RASTER"
  (414611.48635495 ,4708133.3905678103) (0,0) Label "Pt 1.1" ,
  (414621.64635455998 ,4708133.3905678103) (1,0) Label "Pt 1.2" ,
  (414611.48635495 ,4708123.2305682003) (0,1) Label "Pt 1.3" ,
  (415627.48631594999 ,4707117.3906068103) (100,100) Label "Pt 2.1" ,
  (415627.48631594999 ,4708133.3905678103) (100,0) Label "Pt 2.2" ,
  (414611.48635495 ,4707117.3906068103) (0,100) Label "Pt 2.3" ,
  (416643.48627694999 ,4706101.3906458104) (200,200) Label "Pt 3.1" ,
  (416643.48627694999 ,4708133.3905678103) (200,0) Label "Pt 3.2" ,
  (414611.48635495 ,4706101.3906458104) (0,200) Label "Pt 3.3"
  CoordSys Earth Projection 8, 62,"m",-75, 0, 0.9996, 500000, 0
  Units "m"
  RasterStyle 4 1
  RasterStyle 5 1
