!Table:
!Version 300
!Charset WindowsLatin1

Definition Table
  File "F42075E1.TIF"
  Type "RASTER"
  (415263.90029893001 ,4763447.9275261099) (0,0) Label "Pt 1.1" ,
  (415274.06029853999 ,4763447.9275261099) (1,0) Label "Pt 1.2" ,
  (415263.90029893001 ,4763437.7675264999) (0,1) Label "Pt 1.3" ,
  (416279.90025993 ,4762431.9275651099) (100,100) Label "Pt 2.1" ,
  (416279.90025993 ,4763447.9275261099) (100,0) Label "Pt 2.2" ,
  (415263.90029893001 ,4762431.9275651099) (0,100) Label "Pt 2.3" ,
  (417295.90022092999 ,4761415.92760411) (200,200) Label "Pt 3.1" ,
  (417295.90022092999 ,4763447.9275261099) (200,0) Label "Pt 3.2" ,
  (415263.90029893001 ,4761415.92760411) (0,200) Label "Pt 3.3"
  CoordSys Earth Projection 8, 62,"m",-75, 0, 0.9996, 500000, 0
  Units "m"
  RasterStyle 4 1
  RasterStyle 5 1
