!Table:
!Version 300
!Charset WindowsLatin1

Definition Table
  File "F42076A1.TIF"
  Type "RASTER"
  (327846.99238900002 ,4713734.6661139997) (0,0) Label "Pt 1.1" ,
  (327857.152389 ,4713734.6661139997) (1,0) Label "Pt 1.2" ,
  (327846.99238900002 ,4713724.5061139995) (0,1) Label "Pt 1.3" ,
  (328862.99238900002 ,4712718.6661139997) (100,100) Label "Pt 2.1" ,
  (328862.99238900002 ,4713734.6661139997) (100,0) Label "Pt 2.2" ,
  (327846.99238900002 ,4712718.6661139997) (0,100) Label "Pt 2.3" ,
  (329878.99238900002 ,4711702.6661139997) (200,200) Label "Pt 3.1" ,
  (329878.99238900002 ,4713734.6661139997) (200,0) Label "Pt 3.2" ,
  (327846.99238900002 ,4711702.6661139997) (0,200) Label "Pt 3.3"
  CoordSys Earth Projection 8, 62,"m",-75, 0, 0.9996, 500000, 0
  Units "m"
  RasterStyle 4 1
  RasterStyle 5 2
