10.15999961
0.00000000
0.00000000
-10.15999961
578962.41531841
4765378.79609604
