10.160000000000
0.000000000000
0.000000000000
-10.160000000000
578298.077219598810
4820754.432747975900
