!Table:
!Version 300
!Charset WindowsLatin1

Definition Table
  File "F43074A1.TIF"
  Type "RASTER"
  (497440.43195922713 ,4819315.0897131823) (0,0) Label "Pt 1.1" ,
  (497450.59195922711 ,4819315.0897131823) (1,0) Label "Pt 1.2" ,
  (497440.43195922713 ,4819304.9297131822) (0,1) Label "Pt 1.3" ,
  (498456.43195922713 ,4818299.0897131823) (100,100) Label "Pt 2.1" ,
  (498456.43195922713 ,4819315.0897131823) (100,0) Label "Pt 2.2" ,
  (497440.43195922713 ,4818299.0897131823) (0,100) Label "Pt 2.3" ,
  (499472.43195922713 ,4817283.0897131823) (200,200) Label "Pt 3.1" ,
  (499472.43195922713 ,4819315.0897131823) (200,0) Label "Pt 3.2" ,
  (497440.43195922713 ,4817283.0897131823) (0,200) Label "Pt 3.3"
  CoordSys Earth Projection 8, 62,"m",-75, 0, 0.9996, 500000, 0
  Units "m"
  RasterStyle 4 1
  RasterStyle 5 2
