10.160000000000
0.000000000000
0.000000000000
-10.160000000000
415903.895370056969
4819195.636321910650
