!Table:
!Version 300
!Charset WindowsLatin1

Definition Table
  File "F43076A1.TIF"
  Type "RASTER"
  (334361.66102905414 ,4820655.9797248626) (0,0) Label "Pt 1.1" ,
  (334371.82102905412 ,4820655.9797248626) (1,0) Label "Pt 1.2" ,
  (334361.66102905414 ,4820645.8197248625) (0,1) Label "Pt 1.3" ,
  (335377.66102905414 ,4819639.9797248626) (100,100) Label "Pt 2.1" ,
  (335377.66102905414 ,4820655.9797248626) (100,0) Label "Pt 2.2" ,
  (334361.66102905414 ,4819639.9797248626) (0,100) Label "Pt 2.3" ,
  (336393.66102905414 ,4818623.9797248626) (200,200) Label "Pt 3.1" ,
  (336393.66102905414 ,4820655.9797248626) (200,0) Label "Pt 3.2" ,
  (334361.66102905414 ,4818623.9797248626) (0,200) Label "Pt 3.3"
  CoordSys Earth Projection 8, 62,"m",-75, 0, 0.9996, 500000, 0
  Units "m"
  RasterStyle 4 1
  RasterStyle 5 2
