!Table:
!Version 300
!Charset WindowsLatin1

Definition Table
  File "F43077A1.TIF"
  Type "RASTER"
  (252832.28051072397 ,4823115.6161178667) (0,0) Label "Pt 1.1" ,
  (252842.44051072397 ,4823115.6161178667) (1,0) Label "Pt 1.2" ,
  (252832.28051072397 ,4823105.4561178666) (0,1) Label "Pt 1.3" ,
  (253848.28051072397 ,4822099.6161178667) (100,100) Label "Pt 2.1" ,
  (253848.28051072397 ,4823115.6161178667) (100,0) Label "Pt 2.2" ,
  (252832.28051072397 ,4822099.6161178667) (0,100) Label "Pt 2.3" ,
  (254864.28051072397 ,4821083.6161178667) (200,200) Label "Pt 3.1" ,
  (254864.28051072397 ,4823115.6161178667) (200,0) Label "Pt 3.2" ,
  (252832.28051072397 ,4821083.6161178667) (0,200) Label "Pt 3.3"
  CoordSys Earth Projection 8, 62,"m",-75, 0, 0.9996, 500000, 0
  Units "m"
  RasterStyle 4 1
  RasterStyle 5 2
