!Table:
!Version 300
!Charset WindowsLatin1

Definition Table
  File "F43078A1.TIF"
  Type "RASTER"
  (659115.79786271497 ,4823485.0756853027) (0,0) Label "Pt 1.1" ,
  (659125.957862715 ,4823485.0756853027) (1,0) Label "Pt 1.2" ,
  (659115.79786271497 ,4823474.9156853026) (0,1) Label "Pt 1.3" ,
  (660131.79786271497 ,4822469.0756853027) (100,100) Label "Pt 2.1" ,
  (660131.79786271497 ,4823485.0756853027) (100,0) Label "Pt 2.2" ,
  (659115.79786271497 ,4822469.0756853027) (0,100) Label "Pt 2.3" ,
  (661147.79786271497 ,4821453.0756853027) (200,200) Label "Pt 3.1" ,
  (661147.79786271497 ,4823485.0756853027) (200,0) Label "Pt 3.2" ,
  (659115.79786271497 ,4821453.0756853027) (0,200) Label "Pt 3.3"
  CoordSys Earth Projection 8, 62,"m",-81, 0, 0.9996, 500000, 0
  Units "m"
  RasterStyle 4 1
  RasterStyle 5 2
