!Table:
!Version 300
!Charset WindowsLatin1

Definition Table
  File "F44074E1.TIF"
  Type "RASTER"
  (497441.66215984512 ,4985939.2384643396) (0,0) Label "Pt 1.1" ,
  (497451.82215984509 ,4985939.2384643396) (1,0) Label "Pt 1.2" ,
  (497441.66215984512 ,4985929.0784643395) (0,1) Label "Pt 1.3" ,
  (498457.66215984512 ,4984923.2384643396) (100,100) Label "Pt 2.1" ,
  (498457.66215984512 ,4985939.2384643396) (100,0) Label "Pt 2.2" ,
  (497441.66215984512 ,4984923.2384643396) (0,100) Label "Pt 2.3" ,
  (499473.66215984512 ,4983907.2384643396) (200,200) Label "Pt 3.1" ,
  (499473.66215984512 ,4985939.2384643396) (200,0) Label "Pt 3.2" ,
  (497441.66215984512 ,4983907.2384643396) (0,200) Label "Pt 3.3"
  CoordSys Earth Projection 8, 62,"m",-75, 0, 0.9996, 500000, 0
  Units "m"
  RasterStyle 4 1
  RasterStyle 5 1
