10.160000000000
0.000000000000
0.000000000000
-10.160000000000
497441.662159845116
4985939.238464339630
