!Table:
!Version 300
!Charset WindowsLatin1

Definition Table
  File "F44075A1.TIF"
  Type "RASTER"
  (417102.12839000003 ,4930206.8261679998) (0,0) Label "Pt 1.1" ,
  (417112.28839 ,4930206.8261679998) (1,0) Label "Pt 1.2" ,
  (417102.12839000003 ,4930196.6661679996) (0,1) Label "Pt 1.3" ,
  (418118.12839000003 ,4929190.8261679998) (100,100) Label "Pt 2.1" ,
  (418118.12839000003 ,4930206.8261679998) (100,0) Label "Pt 2.2" ,
  (417102.12839000003 ,4929190.8261679998) (0,100) Label "Pt 2.3" ,
  (419134.12839000003 ,4928174.8261679998) (200,200) Label "Pt 3.1" ,
  (419134.12839000003 ,4930206.8261679998) (200,0) Label "Pt 3.2" ,
  (417102.12839000003 ,4928174.8261679998) (0,200) Label "Pt 3.3"
  CoordSys Earth Projection 8, 62,"m",-75, 0, 0.9996, 500000, 0
  Units "m"
  RasterStyle 4 1
  RasterStyle 5 1
