10.160000
0
0
-10.160000
417673.472671
4985881.225995
